

BEGIN:VCALENDAR
VERSION:2.0
PRODID:-//eventon.com NONSGML v1.0//EN
BEGIN:VEVENT
UID:69e83ce166b8a
DTSTAMP:20260422T041337
DTSTART:20260603T083000Z
DTEND:20260603T160000Z
LOCATION:Brains Brewery Dragon Brewery\,  Pacific Road\,  Cardiff CF24 5HJ
SUMMARY:Cellar Management Course - Brains' Dragon Brewery\,  Cardiff
DESCRIPTION: Increase sales and decrease wastage by attending a one-day course which delivers an understanding of how to handle and maintain quality of cask and keg beer from delivery to serve. This course is a mix of classroom based learning\,  practical assessments and interactive exercises. &nbsp;
END:VEVENT
END:VCALENDAR