

BEGIN:VCALENDAR
VERSION:2.0
PRODID:-//eventon.com NONSGML v1.0//EN
BEGIN:VEVENT
UID:69e83af024e86
DTSTAMP:20260422T040520
DTSTART:20260512T083000Z
DTEND:20260512T163000Z
LOCATION:Theakston Brewery Wellgarth\,  Masham\,  Ripon\,  HG4 4EN
SUMMARY:Cellar Management Course - Theakston Brewery\,  Masham
DESCRIPTION: Increase sales and decrease wastage by attending a one-day course which delivers an understanding of how to handle and maintain quality of cask and keg beer from delivery to serve. This course is a mix of classroom based learning\,  practical assessments and interactive exercises. A brewery tour is included on[..]
END:VEVENT
END:VCALENDAR