

BEGIN:VCALENDAR
VERSION:2.0
PRODID:-//eventon.com NONSGML v1.0//EN
BEGIN:VEVENT
UID:69e83bd9d48c4
DTSTAMP:20260422T040913
DTSTART:20260624T081500Z
DTEND:20260624T163000Z
LOCATION:Fullers Brewery The Griffin Brewery\,  Chiswick Ln\,  Chiswick\,  London W4 2QB\,  UK
SUMMARY:Cellar Management Course - Fullers Brewery\,  London
DESCRIPTION: Increase sales and decrease wastage by attending a one-day course which delivers an understanding of how to handle and maintain quality of cask and keg beer from delivery to serve. This course is a mix of classroom based learning\,  practical assessments and interactive exercises.
END:VEVENT
END:VCALENDAR